BEGIN:VCALENDAR
VERSION:2.0
PRODID:-//La Salle - ECPv6.15.20//NONSGML v1.0//EN
CALSCALE:GREGORIAN
METHOD:PUBLISH
X-ORIGINAL-URL:https://delasallesantiago.edu.do
X-WR-CALDESC:Eventos para La Salle
REFRESH-INTERVAL;VALUE=DURATION:PT1H
X-Robots-Tag:noindex
X-PUBLISHED-TTL:PT1H
BEGIN:VTIMEZONE
TZID:America/Santo_Domingo
BEGIN:STANDARD
TZOFFSETFROM:-0400
TZOFFSETTO:-0400
TZNAME:AST
DTSTART:20250101T000000
END:STANDARD
END:VTIMEZONE
BEGIN:VEVENT
DTSTART;TZID=America/Santo_Domingo:20260427T000000
DTEND;TZID=America/Santo_Domingo:20260427T000000
DTSTAMP:20260425T235902
CREATED:20251015T172429Z
LAST-MODIFIED:20251015T172429Z
UID:992040-1777248000-1777248000@delasallesantiago.edu.do
SUMMARY:Último día docencia 6to
DESCRIPTION:
URL:https://delasallesantiago.edu.do/event/ultimo-dia-docencia-6to
END:VEVENT
BEGIN:VEVENT
DTSTART;TZID=America/Santo_Domingo:20260427T000000
DTEND;TZID=America/Santo_Domingo:20260501T000000
DTSTAMP:20260425T235902
CREATED:20251015T172429Z
LAST-MODIFIED:20251015T172429Z
UID:992041-1777248000-1777593600@delasallesantiago.edu.do
SUMMARY:Evaluación 6to Secundaria
DESCRIPTION:
URL:https://delasallesantiago.edu.do/event/evaluacion-6to-secundaria
END:VEVENT
BEGIN:VEVENT
DTSTART;TZID=America/Santo_Domingo:20260429T000000
DTEND;TZID=America/Santo_Domingo:20260429T000000
DTSTAMP:20260425T235902
CREATED:20251015T172429Z
LAST-MODIFIED:20251015T172429Z
UID:992042-1777420800-1777420800@delasallesantiago.edu.do
SUMMARY:Excursión de 1ro
DESCRIPTION:
URL:https://delasallesantiago.edu.do/event/excursion-de-1ro
END:VEVENT
BEGIN:VEVENT
DTSTART;TZID=America/Santo_Domingo:20260430T000000
DTEND;TZID=America/Santo_Domingo:20260430T000000
DTSTAMP:20260425T235902
CREATED:20251015T172429Z
LAST-MODIFIED:20251015T172429Z
UID:992043-1777507200-1777507200@delasallesantiago.edu.do
SUMMARY:Confesiones y ensayo para Primera Comunión (5to Primaria)
DESCRIPTION:
URL:https://delasallesantiago.edu.do/event/confesiones-y-ensayo-para-primera-comunion-5to-primaria
END:VEVENT
END:VCALENDAR